BEGIN:VCALENDAR
VERSION:2.0
PRODID:-//wp-events-plugin.com//7.2.3.1//EN
TZID:Europe/Amsterdam
X-WR-TIMEZONE:Europe/Amsterdam
BEGIN:VEVENT
UID:487@bezielen.nl
DTSTART;TZID=Europe/Amsterdam:20250621T100000
DTEND;TZID=Europe/Amsterdam:20250621T170000
DTSTAMP:20250326T052620Z
URL:https://bezielen.nl/events/holistische-massage-cursus-13/
SUMMARY:Holistische massage cursus
DESCRIPTION:Wat: Holistische massage cursus\n\n 	Data: 21 &amp\; 22 juni / 
 23 &amp\; 24 augustus / 18 &amp\; 19 oktober / 15 &amp\; 16 november\n 	Wa
 nneer: 10.00 – 17.00 uur\n 	Waar: Rotterdam (2-daagse)\n 	Wie: Yasmin Fr
 is\n 	Deelnemers: minimaal 2 en maximaal 4\n 	Kosten: € 550\,-\n 	Ervari
 ng: Yasmin heeft haar eerste massage cursus in Thailand gevolgd zes jaar g
 eleden. Hierna heeft ze bij verschillende salons en thermen holiday gewerk
 t. Sinds drie jaar heeft ze haar eigen centrum. Ze heeft het volledige Rei
 ki traject gevolgd tot Reiki leraar. Sinds twee jaar geeft Yasmin de cursu
 ssen met zoveel plezier.\n 	Aanmelden of meer info via deze link: Holistis
 che massage\n 	Overig: Yasmin geeft naast deze Holistische massage cursus
 \, ook de Reiki I en Reiki II en Reiki Master. Daarnaast geeft begele
 idt ze het Authentiek Treatments Traject en geeft zij ook individuele Reik
 i en massage Treatments\n
ATTACH;FMTTYPE=image/jpeg:https://bezielen.nl/wp-content/uploads/2024/09/G
 aiaCenterYasminFrisReikiMassageHolistisch6.webp
CATEGORIES:Holistische massage cursus
LOCATION:Rotterdam\, Rotterdam\, Rotterdam\, Nederland
X-APPLE-STRUCTURED-LOCATION;VALUE=URI;X-ADDRESS=Rotterdam\, Rotterdam\, Ned
 erland;X-APPLE-RADIUS=100;X-TITLE=Rotterdam:geo:0,0
END:VEVENT
BEGIN:VTIMEZONE
TZID:Europe/Amsterdam
X-LIC-LOCATION:Europe/Amsterdam
BEGIN:DAYLIGHT
DTSTART:20250330T030000
TZOFFSETFROM:+0100
TZOFFSETTO:+0200
TZNAME:CEST
END:DAYLIGHT
END:VTIMEZONE
END:VCALENDAR