BEGIN:VCALENDAR
VERSION:2.0
PRODID:-//wp-events-plugin.com//7.2.3.1//EN
TZID:Europe/Amsterdam
X-WR-TIMEZONE:Europe/Amsterdam
BEGIN:VEVENT
UID:634@bezielen.nl
DTSTART;TZID=Europe/Amsterdam;VALUE=DATE:20251103
DTEND;TZID=Europe/Amsterdam;VALUE=DATE:20251110
DTSTAMP:20250830T064202Z
URL:https://bezielen.nl/events/gouden-driehoek-india/
SUMMARY:Gouden Driehoek India
DESCRIPTION:\n 	Wat: Gouden Driehoek India\n 	Wanneer: Groepsreis\, 3 – 
 9 november\n 	Kosten: 725 euro\n 	Tijdsduur: 7 dagen / 6 nachten\n 	Aanm
 elden of meer info via deze link: Gouden Driehoek India\n 	Overig: Deze 
 reis wordt vaak geboekt als verlenging van de 18 daagse Spirituele reis I
 ndia of 30 daagse Gezondheidsreis India.\n
ATTACH;FMTTYPE=image/jpeg:https://bezielen.nl/wp-content/uploads/2025/04/G
 ouden-Driehoek-reis-India.webp
CATEGORIES:Gouden Driehoek,india
LOCATION:India\, India\, India\, India
X-APPLE-STRUCTURED-LOCATION;VALUE=URI;X-ADDRESS=India\, India\, India;X-APP
 LE-RADIUS=100;X-TITLE=India:geo:0,0
END:VEVENT
BEGIN:VTIMEZONE
TZID:Europe/Amsterdam
X-LIC-LOCATION:Europe/Amsterdam
BEGIN:STANDARD
DTSTART:20251026T020000
TZOFFSETFROM:+0200
TZOFFSETTO:+0100
TZNAME:CET
END:STANDARD
END:VTIMEZONE
END:VCALENDAR