BEGIN:VCALENDAR
VERSION:2.0
PRODID:-//wp-events-plugin.com//7.2.3.1//EN
TZID:Europe/Amsterdam
X-WR-TIMEZONE:Europe/Amsterdam
BEGIN:VEVENT
UID:446@bezielen.nl
DTSTART;TZID=Europe/Amsterdam;VALUE=DATE:20250127
DTEND;TZID=Europe/Amsterdam;VALUE=DATE:20250215
DTSTAMP:20250111T055400Z
URL:https://bezielen.nl/events/gezondheidsreis-kerala-2/
SUMMARY:Gezondheidsreis Kerala
DESCRIPTION:\n 	Wat: 19 dagen gezondheidsreis India\, bestaande uit yoga\,
  meditatie\, ayurvedische behandelingen.\n 	Wanneer: 27 januari - 14 febru
 ari\n\n 	Waar: Kerala\n 	Deelnemers: ca. 10 (ook op individuele basis)\n
  	Kosten: € 2.395\,00\n 	Overig: Verlenging van de reis is mogelijk me
 t een meerdaagse panchakarma treatment. Eventueel de mogelijkheid om deze 
 reis individueel te doen. Ook bieden we de 30 daagse Gezondheidsreis aa
 n in de Himalaya. Mocht je een meer spirituele reis willen\, dan bieden we
  ook de 18-daagse Spirituele reis India aan.\n 	Aanmelden of meer info v
 ia deze link: Gezondheidsreis Kerala\n\n
ATTACH;FMTTYPE=image/jpeg:https://bezielen.nl/wp-content/uploads/2022/11/n
 ature-photographer-29ezCWtMtnM-unsplash-4-scaled.jpg
CATEGORIES:Gezondheidsreis
LOCATION:Kerala\, Kerala\, Kerala\, India
X-APPLE-STRUCTURED-LOCATION;VALUE=URI;X-ADDRESS=Kerala\, Kerala\, India;X-A
 PPLE-RADIUS=100;X-TITLE=Kerala:geo:0,0
END:VEVENT
BEGIN:VTIMEZONE
TZID:Europe/Amsterdam
X-LIC-LOCATION:Europe/Amsterdam
BEGIN:STANDARD
DTSTART:20241027T020000
TZOFFSETFROM:+0200
TZOFFSETTO:+0100
TZNAME:CET
END:STANDARD
END:VTIMEZONE
END:VCALENDAR