BEGIN:VCALENDAR
VERSION:2.0
PRODID:-//wp-events-plugin.com//7.2.3.1//EN
TZID:Europe/Amsterdam
X-WR-TIMEZONE:Europe/Amsterdam
BEGIN:VEVENT
UID:343@bezielen.nl
DTSTART;TZID=Europe/Amsterdam;VALUE=DATE:20250305
DTEND;TZID=Europe/Amsterdam;VALUE=DATE:20250320
DTSTAMP:20250111T055205Z
URL:https://bezielen.nl/events/fotografiereis-india/
SUMMARY:Fotografiereis-india
DESCRIPTION:Bezielde fotografie reis tijdens holi\nNieuw bij Bezielen\; Fot
 ografie / verlenging reizen India\n\nDe ziel van India ontdekken tijdens o
 nze unieke fotografie-reizen\, bij Bezielen geloven we in reizen als een v
 erlengstuk van een spirituele ontdekkingstocht\, waarbij de nadruk ligt op
  het creëren van diepgaande verbindingen met de lokale gemeenschappen en 
 het verkennen van bijzondere plekken die doordrenkt zijn van geschiedenis 
 en betekenis.\n\nWat: Holi fotografie rondreis\nWanneer: 05 -19 maart 20
 25\nWaar: India\, Uttar Pradesh\nDeelnemers: Ca. 8 deelnemers\n\nKosten e
 n aanmelden:\n\n 	Totale kosten van deze rondreis zijn €2998\,- p.p. op 
 basis van 8 deelnemers.\n 	Prijs inclusief hotels met ontbijt\, transfers 
 en vervoer in comfortabele minibus\, professionele lokale fotograaf\, info
  en presentatie avonden van de fotograaf.\n 	Nederlandstalige begeleiding.
 \n 	Diner in guesthouse van dag 3 t/m 6.\n 	Entrees en attracties.\n 	Excl
 usief: Overige maaltijden en drankjes\, fooien en persoonlijke uitgaven\, 
 reis-en annuleringsverzekering\, intercontinentale vlucht.\n 	Visa\; 30 da
 gen Tourist E Visa v.a 33\,00 euro.\n 	Aanmelden of meer info via deze lin
 k :  fotografie reis\n 	Let op: je aanmelding geldt pas wanneer je betaal
 d hebt\, dus wees hier op tijd mee.\n
ATTACH;FMTTYPE=image/jpeg:https://bezielen.nl/wp-content/uploads/2024/06/g
 roepsreis-india-fotografie-holi-8.webp
CATEGORIES:Fotografiereis india
LOCATION:Uttar Pradesh\, Uttar Pradesh\, Uttar Pradesh\, India\, India
X-APPLE-STRUCTURED-LOCATION;VALUE=URI;X-ADDRESS=Uttar Pradesh\, Uttar Prade
 sh\, India\, India;X-APPLE-RADIUS=100;X-TITLE=Uttar Pradesh:geo:0,0
END:VEVENT
BEGIN:VTIMEZONE
TZID:Europe/Amsterdam
X-LIC-LOCATION:Europe/Amsterdam
BEGIN:STANDARD
DTSTART:20241027T020000
TZOFFSETFROM:+0200
TZOFFSETTO:+0100
TZNAME:CET
END:STANDARD
END:VTIMEZONE
END:VCALENDAR