BEGIN:VCALENDAR
VERSION:2.0
PRODID:-//wp-events-plugin.com//7.2.3.1//EN
TZID:Europe/Amsterdam
X-WR-TIMEZONE:Europe/Amsterdam
BEGIN:VEVENT
UID:578@bezielen.nl
DTSTART;TZID=Europe/Amsterdam;VALUE=DATE:20251026
DTEND;TZID=Europe/Amsterdam;VALUE=DATE:20251113
DTSTAMP:20250704T071648Z
URL:https://bezielen.nl/events/fotografiereis-india-2/
SUMMARY:Fotografiereis India
DESCRIPTION:\n 	Wat: Holi fotografie rondreis\n 	Wanneer: 26 oktober – 12
  november\n 	Waar: India\, Uttar Pradesh\n 	Ervaring: Reis geschikt voor z
 owel ervaren als beginnende fotografie liefhebbers.\n 	Deelnemers: Ca. 8 d
 eelnemers\n 	Kosten: 2.998 euro (op basis van 8 deelnemers)\n 	Aanmelden o
 f meer info via deze link: Fotografiereis India\n 	Overige: deze reis is a
 part te boeken of als verlenging van een van de andere Indiareizen. Ook i
 ndividueel mogelijk.\n
ATTACH;FMTTYPE=image/jpeg:https://bezielen.nl/wp-content/uploads/2024/09/g
 roepsreis-india-fotografie-holi-8b.webp
CATEGORIES:india
LOCATION:Uttar Pradesh\, Uttar Pradesh\, Uttar Pradesh\, India\, India
X-APPLE-STRUCTURED-LOCATION;VALUE=URI;X-ADDRESS=Uttar Pradesh\, Uttar Prade
 sh\, India\, India;X-APPLE-RADIUS=100;X-TITLE=Uttar Pradesh:geo:0,0
END:VEVENT
BEGIN:VTIMEZONE
TZID:Europe/Amsterdam
X-LIC-LOCATION:Europe/Amsterdam
BEGIN:DAYLIGHT
DTSTART:20250330T030000
TZOFFSETFROM:+0100
TZOFFSETTO:+0200
TZNAME:CEST
END:DAYLIGHT
BEGIN:STANDARD
DTSTART:20251026T020000
TZOFFSETFROM:+0200
TZOFFSETTO:+0100
TZNAME:CET
END:STANDARD
END:VTIMEZONE
END:VCALENDAR