BEGIN:VCALENDAR
VERSION:2.0
PRODID:-//wp-events-plugin.com//7.2.3.1//EN
TZID:Europe/Amsterdam
X-WR-TIMEZONE:Europe/Amsterdam
BEGIN:VEVENT
UID:346@bezielen.nl
DTSTART;TZID=Europe/Amsterdam;VALUE=DATE:20250120
DTEND;TZID=Europe/Amsterdam;VALUE=DATE:20250124
DTSTAMP:20250120T064001Z
URL:https://bezielen.nl/events/clarity-persoonlijk-leiderschap-14/
SUMMARY:Clarity persoonlijk leiderschap
DESCRIPTION:Je ervaart de wereld en jezelf met de mindset van het kind dat 
 je vroeger was. Dat denkt dat de gevaren die bij die mindset horen\, er nu
  nog altijd werkelijk zijn en past de strategieën die er bij horen dageli
 jks toe. Onbewust word je op deze manier gestuurd en op een bepaalde manie
 r beperkt. In deze training van een week krijg je alle tijd om een band op
  te bouwen met dat deel in jezelf. Je leert enerzijds te achterhalen hoe e
 n waarom die mindset zo in elkaar steekt. Anderzijds leer je hoe je de kra
 cht van het nu kan inzetten om de wereld en jezelf te zien zonder al die p
 rojecties. En die helderheid geeft je de vrijheid die past bij je volwasse
 n zijn.\n\n 	Wat: Clarity persoonlijk leiderschap\n 	Wanneer: 20 - 23 jan
 uari 2025****\n 	Waar: Terschelling\n 	Ervaring: beginners en gevorderden\
 n 	Deelnemers: maximaal 15 deelnemers\n 	Kosten: Driedaagse trainingen: 72
 0 euro (excl. overnachting)\n 	Aanmelden of meer info via deze link: perso
 onlijk leiderschap\n 	Overige: Heb je een kleine beurs\, dan wil het Clari
 ty Fonds je graag ondersteunen.\n
ATTACH;FMTTYPE=image/jpeg:https://bezielen.nl/wp-content/uploads/2023/05/C
 larity-Persoonlijk-Leiderschap-1.jpg
CATEGORIES:Clarity
LOCATION:Terschelling\, Terschelling\, Terschelling\, Nederland
X-APPLE-STRUCTURED-LOCATION;VALUE=URI;X-ADDRESS=Terschelling\, Terschelling
 \, Nederland;X-APPLE-RADIUS=100;X-TITLE=Terschelling:geo:0,0
END:VEVENT
BEGIN:VTIMEZONE
TZID:Europe/Amsterdam
X-LIC-LOCATION:Europe/Amsterdam
BEGIN:STANDARD
DTSTART:20241027T020000
TZOFFSETFROM:+0200
TZOFFSETTO:+0100
TZNAME:CET
END:STANDARD
END:VTIMEZONE
END:VCALENDAR