BEGIN:VCALENDAR
VERSION:2.0
PRODID:-//wp-events-plugin.com//7.2.3.1//EN
TZID:Europe/Amsterdam
X-WR-TIMEZONE:Europe/Amsterdam
BEGIN:VEVENT
UID:508@bezielen.nl
DTSTART;TZID=Europe/Amsterdam:20250308T100000
DTEND;TZID=Europe/Amsterdam:20250308T140000
DTSTAMP:20250131T055934Z
URL:https://bezielen.nl/events/ayurvedische-kookworkshop-60/
SUMMARY:Ayurvedische Kookworkshop
DESCRIPTION:Ayurvedische Kookworkshop\n\n 	Wat: Ayurvedische Kookworkshop\n
  	Wanneer:\n 	Castricum:\n8 maart: Thema ‘Detox koken voor elke dag’\n
  	Tijd:\nCastricum: 10:00 – 14:00 uur\nWaar: Castricum\n 	Ervaring: Ale
 na heeft sinds 2009 een praktijk voor Ayurvedische voeding- en leefstijl a
 dvies en geeft regelmatig privé of in groepsverband Ayurvedische kookwork
 shops. Anjanidebie is een CAT-gecertificeerde Ayurvedisch Practitioner\, z
 ij heeft een life time ervaring met Ayurveda vanwege haar Indiase roots. O
 pgegroeid met Ayurveda via haar ouders. Zij volgde diverse Ayurveda\, Yoga
  en Spirituele opleidingen.\n 	Wat is het niet: het is niet moeilijk of s
 aai\n 	Deelnemers:\nCastricum: minimaal 3 deelnemers\, maximaal 7 deelneme
 rs (gemengd)\n 	Kosten:\nCastricum: €97\,00\n 	Aanmelden of meer info vi
 a deze link: Ayurvedische Kookworkshop\n 	Overige: deze Ayurvedische kook
 workshop is een goede voorbereiding voor de Spirituele reis naar India &
 amp\; 30 dagen gezondheidsreis India die wij ieder jaar organiseren. De 
 kookworkshop bieden we ook aan voor privé groepen.\n\n&nbsp\;
ATTACH;FMTTYPE=image/jpeg:https://bezielen.nl/wp-content/uploads/2023/07/k
 ookworkshop.jpg
CATEGORIES:ayurveda
LOCATION:Castricum\, Castricum\, Castricum\, Netherlands\, Nederland
X-APPLE-STRUCTURED-LOCATION;VALUE=URI;X-ADDRESS=Castricum\, Castricum\, Net
 herlands\, Nederland;X-APPLE-RADIUS=100;X-TITLE=Castricum:geo:0,0
END:VEVENT
BEGIN:VTIMEZONE
TZID:Europe/Amsterdam
X-LIC-LOCATION:Europe/Amsterdam
BEGIN:STANDARD
DTSTART:20241027T020000
TZOFFSETFROM:+0200
TZOFFSETTO:+0100
TZNAME:CET
END:STANDARD
END:VTIMEZONE
END:VCALENDAR