BEGIN:VCALENDAR
VERSION:2.0
PRODID:-//wp-events-plugin.com//7.2.3.1//EN
TZID:Europe/Amsterdam
X-WR-TIMEZONE:Europe/Amsterdam
BEGIN:VEVENT
UID:461@bezielen.nl
DTSTART;TZID=Europe/Amsterdam:20250125T100000
DTEND;TZID=Europe/Amsterdam:20250125T140000
DTSTAMP:20250116T053816Z
URL:https://bezielen.nl/events/ayurvedische-kookworkshop-53/
SUMMARY:Ayurvedische Kookworkshop
DESCRIPTION:Ayurvedische Kookworkshop\n\n 	Wat: Ayurvedische Kookworkshop\n
  	Wanneer:\n 	Castricum:\n25 januari / 8 februari: Thema ‘Ayurvedische k
 ookworkshop Deel 1’\n15 februari: Thema ‘Apotheek in jouw keuken’\n 
 	Tijd:\nCastricum: 10:00 – 14:00 uur\nWaar: Castricum\n 	Ervaring: Alen
 a heeft sinds 2009 een praktijk voor Ayurvedische voeding- en leefstijl ad
 vies en geeft regelmatig privé of in groepsverband Ayurvedische kookworks
 hops. Anjanidebie is een CAT-gecertificeerde Ayurvedisch Practitioner\, zi
 j heeft een life time ervaring met Ayurveda vanwege haar Indiase roots. Op
 gegroeid met Ayurveda via haar ouders. Zij volgde diverse Ayurveda\, Yoga 
 en Spirituele opleidingen.\n 	Wat is het niet: het is niet moeilijk of sa
 ai\n 	Deelnemers:\nCastricum: minimaal 3 deelnemers\, maximaal 7 deelnemer
 s (gemengd)\n 	Kosten:\nCastricum: €97\,00\n 	Aanmelden of meer info via
  deze link: Ayurvedische Kookworkshop\n 	Overige: deze Ayurvedische kookw
 orkshop is een goede voorbereiding voor de Spirituele reis naar India &a
 mp\; 30 dagen gezondheidsreis India die wij ieder jaar organiseren. De k
 ookworkshop bieden we ook aan voor privé groepen.\n\n&nbsp\;
ATTACH;FMTTYPE=image/jpeg:https://bezielen.nl/wp-content/uploads/2023/07/k
 ookworkshop.jpg
CATEGORIES:ayurveda
LOCATION:Castricum\, Castricum\, Castricum\, Netherlands\, Nederland
X-APPLE-STRUCTURED-LOCATION;VALUE=URI;X-ADDRESS=Castricum\, Castricum\, Net
 herlands\, Nederland;X-APPLE-RADIUS=100;X-TITLE=Castricum:geo:0,0
END:VEVENT
BEGIN:VTIMEZONE
TZID:Europe/Amsterdam
X-LIC-LOCATION:Europe/Amsterdam
BEGIN:STANDARD
DTSTART:20241027T020000
TZOFFSETFROM:+0200
TZOFFSETTO:+0100
TZNAME:CET
END:STANDARD
END:VTIMEZONE
END:VCALENDAR