BEGIN:VCALENDAR
VERSION:2.0
PRODID:-//wp-events-plugin.com//7.2.3.1//EN
TZID:Europe/Amsterdam
X-WR-TIMEZONE:Europe/Amsterdam
BEGIN:VEVENT
UID:460@bezielen.nl
DTSTART;TZID=Europe/Amsterdam:20250118T100000
DTEND;TZID=Europe/Amsterdam:20250118T140000
DTSTAMP:20250116T053744Z
URL:https://bezielen.nl/events/ayurvedische-kookworkshop-52/
SUMMARY:Ayurvedische Kookworkshop
DESCRIPTION:Ayurvedische Kookworkshop\n\n 	Wat: Ayurvedische Kookworkshop\n
  	Wanneer:\n 	Castricum:\n18 januari : Thema ‘Ayurvedische kookworkshop 
 Deel 2’\n25 januari / 8 februari: Thema ‘Ayurvedische kookworkshop Dee
 l 1’\n15 februari: Thema ‘Apotheek in jouw keuken’\n 	Tijd:\nCastric
 um: 10:00 – 14:00 uur\nWaar: Castricum\n 	Ervaring: Alena heeft sinds 2
 009 een praktijk voor Ayurvedische voeding- en leefstijl advies en geeft r
 egelmatig privé of in groepsverband Ayurvedische kookworkshops. Anjanideb
 ie is een CAT-gecertificeerde Ayurvedisch Practitioner\, zij heeft een lif
 e time ervaring met Ayurveda vanwege haar Indiase roots. Opgegroeid met Ay
 urveda via haar ouders. Zij volgde diverse Ayurveda\, Yoga en Spirituele o
 pleidingen.\n 	Wat is het niet: het is niet moeilijk of saai\n 	Deelnemer
 s:\nCastricum: minimaal 3 deelnemers\, maximaal 7 deelnemers (gemengd)\n 	
 Kosten:\nCastricum: €97\,00\n 	Aanmelden of meer info via deze link: Ayu
 rvedische Kookworkshop\n 	Overige: deze Ayurvedische kookworkshop is een 
 goede voorbereiding voor de Spirituele reis naar India &amp\; 30 dagen 
 gezondheidsreis India die wij ieder jaar organiseren. De kookworkshop bie
 den we ook aan voor privé groepen.\n\n&nbsp\;
ATTACH;FMTTYPE=image/jpeg:https://bezielen.nl/wp-content/uploads/2023/07/k
 ookworkshop.jpg
CATEGORIES:ayurveda
LOCATION:Castricum\, Castricum\, Castricum\, Netherlands\, Nederland
X-APPLE-STRUCTURED-LOCATION;VALUE=URI;X-ADDRESS=Castricum\, Castricum\, Net
 herlands\, Nederland;X-APPLE-RADIUS=100;X-TITLE=Castricum:geo:0,0
END:VEVENT
BEGIN:VTIMEZONE
TZID:Europe/Amsterdam
X-LIC-LOCATION:Europe/Amsterdam
BEGIN:STANDARD
DTSTART:20241027T020000
TZOFFSETFROM:+0200
TZOFFSETTO:+0100
TZNAME:CET
END:STANDARD
END:VTIMEZONE
END:VCALENDAR