BEGIN:VCALENDAR
VERSION:2.0
PRODID:-//wp-events-plugin.com//7.2.3.1//EN
TZID:Europe/Amsterdam
X-WR-TIMEZONE:Europe/Amsterdam
BEGIN:VEVENT
UID:457@bezielen.nl
DTSTART;TZID=Europe/Amsterdam:20241207T100000
DTEND;TZID=Europe/Amsterdam:20241207T140000
DTSTAMP:20241121T052254Z
URL:https://bezielen.nl/events/ayurvedische-kookworkshop-48/
SUMMARY:Ayurvedische Kookworkshop
DESCRIPTION:Ayurvedische Kookworkshop\n\n 	Wat: Ayurvedische Kookworkshop\n
  	Wanneer:\n 	Castricum:\n2024\nThema ‘kerst special’: 7 december\n202
 5\nThema Basis 1: 4 / 11 / 18 januari\nApotheek in jouw keuken: 25 januari
 \n 	Tijd:\nCastricum: 10:00 – 14:00 uur\nWaar: Castricum\n 	Ervaring: A
 lena heeft sinds 2009 een praktijk voor Ayurvedische voeding- en leefstijl
  advies en geeft regelmatig privé of in groepsverband Ayurvedische kookwo
 rkshops. Anjanidebie is een CAT-gecertificeerde Ayurvedisch Practitioner\,
  zij heeft een life time ervaring met Ayurveda vanwege haar Indiase roots.
  Opgegroeid met Ayurveda via haar ouders. Zij volgde diverse Ayurveda\, Yo
 ga en Spirituele opleidingen.\n 	Wat is het niet: het is niet moeilijk of
  saai\n 	Deelnemers:\nCastricum: minimaal 3 deelnemers\, maximaal 7 deelne
 mers (gemengd)\n 	Kosten:\nCastricum: €97\,00\nAanmelden: Klik hier\n 	O
 verige: deze Ayurvedische kookworkshop is een goede voorbereiding voor de
  Spirituele reis naar India &amp\; 30 dagen gezondheidsreis India die 
 wij ieder jaar organiseren. De kookworkshop bieden we ook aan voor privé 
 groepen.\n\n&nbsp\;
ATTACH;FMTTYPE=image/jpeg:https://bezielen.nl/wp-content/uploads/2023/07/k
 ookworkshop.jpg
CATEGORIES:ayurveda
LOCATION:Castricum\, Castricum\, Castricum\, Netherlands\, Nederland
X-APPLE-STRUCTURED-LOCATION;VALUE=URI;X-ADDRESS=Castricum\, Castricum\, Net
 herlands\, Nederland;X-APPLE-RADIUS=100;X-TITLE=Castricum:geo:0,0
END:VEVENT
BEGIN:VTIMEZONE
TZID:Europe/Amsterdam
X-LIC-LOCATION:Europe/Amsterdam
BEGIN:STANDARD
DTSTART:20241027T020000
TZOFFSETFROM:+0200
TZOFFSETTO:+0100
TZNAME:CET
END:STANDARD
END:VTIMEZONE
END:VCALENDAR