BEGIN:VCALENDAR
VERSION:2.0
PRODID:-//wp-events-plugin.com//7.2.3.1//EN
TZID:Europe/Amsterdam
X-WR-TIMEZONE:Europe/Amsterdam
BEGIN:VEVENT
UID:456@bezielen.nl
DTSTART;TZID=Europe/Amsterdam:20241130T100000
DTEND;TZID=Europe/Amsterdam:20241130T140000
DTSTAMP:20241119T051631Z
URL:https://bezielen.nl/events/ayurvedische-kookworkshop-47/
SUMMARY:Ayurvedische Kookworkshop
DESCRIPTION:Ayurvedische Kookworkshop\n\n 	Wat: Ayurvedische Kookworkshop\n
  	Wanneer:\n 	Castricum:\nThem a ‘apotheek in jouw keuken’: 30 novembe
 r\nThema ‘kerst special’: 7 december\n 	Tijd:\nCastricum: 10:00 – 14
 :00 uur\nWaar: Castricum\n 	Ervaring: Alena heeft sinds 2009 een praktijk
  voor Ayurvedische voeding- en leefstijl advies en geeft regelmatig privé
  of in groepsverband Ayurvedische kookworkshops. Anjanidebie is een CAT-ge
 certificeerde Ayurvedisch Practitioner\, zij heeft een life time ervaring 
 met Ayurveda vanwege haar Indiase roots. Opgegroeid met Ayurveda via haar 
 ouders. Zij volgde diverse Ayurveda\, Yoga en Spirituele opleidingen.\n 	W
 at is het niet: het is niet moeilijk of saai\n 	Deelnemers:\nCastricum: m
 inimaal 3 deelnemers\, maximaal 7 deelnemers (gemengd)\n 	Kosten:\nCastric
 um: €97\,00\nAanmelden: Klik hier\n 	Overige: deze Ayurvedische kookwor
 kshop is een goede voorbereiding voor de Spirituele reis naar India &amp
 \; 30 dagen gezondheidsreis India die wij ieder jaar organiseren. De koo
 kworkshop bieden we ook aan voor privé groepen.\n\n&nbsp\;
ATTACH;FMTTYPE=image/jpeg:https://bezielen.nl/wp-content/uploads/2023/07/k
 ookworkshop.jpg
CATEGORIES:ayurveda
LOCATION:Castricum\, Castricum\, Castricum\, Netherlands\, Nederland
X-APPLE-STRUCTURED-LOCATION;VALUE=URI;X-ADDRESS=Castricum\, Castricum\, Net
 herlands\, Nederland;X-APPLE-RADIUS=100;X-TITLE=Castricum:geo:0,0
END:VEVENT
BEGIN:VTIMEZONE
TZID:Europe/Amsterdam
X-LIC-LOCATION:Europe/Amsterdam
BEGIN:STANDARD
DTSTART:20241027T020000
TZOFFSETFROM:+0200
TZOFFSETTO:+0100
TZNAME:CET
END:STANDARD
END:VTIMEZONE
END:VCALENDAR