BEGIN:VCALENDAR
VERSION:2.0
PRODID:-//wp-events-plugin.com//7.2.3.1//EN
TZID:Europe/Amsterdam
X-WR-TIMEZONE:Europe/Amsterdam
BEGIN:VEVENT
UID:415@bezielen.nl
DTSTART;TZID=Europe/Amsterdam:20241123T100000
DTEND;TZID=Europe/Amsterdam:20241123T140000
DTSTAMP:20241119T051617Z
URL:https://bezielen.nl/events/ayurvedische-kookworkshop-46/
SUMMARY:Ayurvedische Kookworkshop
DESCRIPTION:Ayurvedische Kookworkshop\n\n 	Wat: Ayurvedische Kookworkshop\n
  	Wanneer:\n 	Castricum:\nBasis koken voor je gezondheid deel 2: 23 novemb
 er\nThem a ‘apotheek in jouw keuken’: 30 november\nThema ‘kerst spec
 ial’: 7 december\n 	Tijd:\nCastricum: 10:00 – 14:00 uur\nWaar: Castric
 um\n 	Ervaring: Alena heeft sinds 2009 een praktijk voor Ayurvedische voe
 ding- en leefstijl advies en geeft regelmatig privé of in groepsverband A
 yurvedische kookworkshops. Anjanidebie is een CAT-gecertificeerde Ayurvedi
 sch Practitioner\, zij heeft een life time ervaring met Ayurveda vanwege h
 aar Indiase roots. Opgegroeid met Ayurveda via haar ouders. Zij volgde div
 erse Ayurveda\, Yoga en Spirituele opleidingen.\n 	Wat is het niet: het i
 s niet moeilijk of saai\n 	Deelnemers:\nCastricum: minimaal 3 deelnemers\,
  maximaal 7 deelnemers (gemengd)\n 	Kosten:\nCastricum: €97\,00\nAanmeld
 en: Klik hier\n 	Overige: deze Ayurvedische kookworkshop is een goede voo
 rbereiding voor de Spirituele reis naar India &amp\; 30 dagen gezondhei
 dsreis India die wij ieder jaar organiseren. De kookworkshop bieden we oo
 k aan voor privé groepen.\n\n&nbsp\;
ATTACH;FMTTYPE=image/jpeg:https://bezielen.nl/wp-content/uploads/2023/07/k
 ookworkshop.jpg
CATEGORIES:ayurveda
LOCATION:Castricum\, Castricum\, Castricum\, Netherlands\, Nederland
X-APPLE-STRUCTURED-LOCATION;VALUE=URI;X-ADDRESS=Castricum\, Castricum\, Net
 herlands\, Nederland;X-APPLE-RADIUS=100;X-TITLE=Castricum:geo:0,0
END:VEVENT
BEGIN:VTIMEZONE
TZID:Europe/Amsterdam
X-LIC-LOCATION:Europe/Amsterdam
BEGIN:STANDARD
DTSTART:20241027T020000
TZOFFSETFROM:+0200
TZOFFSETTO:+0100
TZNAME:CET
END:STANDARD
END:VTIMEZONE
END:VCALENDAR