BEGIN:VCALENDAR
VERSION:2.0
PRODID:-//wp-events-plugin.com//7.2.3.1//EN
TZID:Europe/Amsterdam
X-WR-TIMEZONE:Europe/Amsterdam
BEGIN:VEVENT
UID:378@bezielen.nl
DTSTART;TZID=Europe/Amsterdam:20241012T100000
DTEND;TZID=Europe/Amsterdam:20241012T140000
DTSTAMP:20240831T064925Z
URL:https://bezielen.nl/events/ayurvedische-kookworkshop-43/
SUMMARY:Ayurvedische Kookworkshop
DESCRIPTION:Ayurvedische Kookworkshop\n\n 	Wat: Ayurvedische Kookworkshop\n
  	Wanneer:\n 	Castricum: 12 oktober kookworkshop detox\n 	Tijd:\nCastricum
 : 10:00 – 14:00 uur\nWaar: Castricum\n 	Ervaring: Alena heeft sinds 200
 9 een praktijk voor Ayurvedische voeding- en leefstijl advies en geeft reg
 elmatig privé of in groepsverband Ayurvedische kookworkshops. Anjanidebie
  is een CAT-gecertificeerde Ayurvedisch Practitioner\, zij heeft een life 
 time ervaring met Ayurveda vanwege haar Indiase roots. Opgegroeid met Ayur
 veda via haar ouders. Zij volgde diverse Ayurveda\, Yoga en Spirituele opl
 eidingen.\n 	Wat is het niet: het is niet moeilijk of saai\n 	Deelnemers:
 \nCastricum: minimaal 3 deelnemers\, maximaal 7 deelnemers (gemengd)\n 	Ko
 sten:\nCastricum: €97\,00\nAanmelden: Klik hier\n 	Overige: deze Ayurve
 dische kookworkshop is een goede voorbereiding voor de Spirituele reis na
 ar India &amp\; 30 dagen gezondheidsreis India die wij ieder jaar organ
 iseren. De kookworkshop bieden we ook aan voor privé groepen.\n\n&nbsp\;
ATTACH;FMTTYPE=image/jpeg:https://bezielen.nl/wp-content/uploads/2023/07/k
 ookworkshop.jpg
CATEGORIES:ayurveda
LOCATION:Castricum\, Castricum\, Castricum\, Netherlands\, Nederland
X-APPLE-STRUCTURED-LOCATION;VALUE=URI;X-ADDRESS=Castricum\, Castricum\, Net
 herlands\, Nederland;X-APPLE-RADIUS=100;X-TITLE=Castricum:geo:0,0
END:VEVENT
BEGIN:VTIMEZONE
TZID:Europe/Amsterdam
X-LIC-LOCATION:Europe/Amsterdam
BEGIN:DAYLIGHT
DTSTART:20240331T030000
TZOFFSETFROM:+0100
TZOFFSETTO:+0200
TZNAME:CEST
END:DAYLIGHT
END:VTIMEZONE
END:VCALENDAR