BEGIN:VCALENDAR
VERSION:2.0
PRODID:-//wp-events-plugin.com//7.2.3.1//EN
TZID:Europe/Amsterdam
X-WR-TIMEZONE:Europe/Amsterdam
BEGIN:VEVENT
UID:297@bezielen.nl
DTSTART;TZID=Europe/Amsterdam:20240330T100000
DTEND;TZID=Europe/Amsterdam:20240330T140000
DTSTAMP:20240322T052735Z
URL:https://bezielen.nl/events/ayurvedische-kookworkshop-32/
SUMMARY:Ayurvedische Kookworkshop
DESCRIPTION:Ayurvedische Kookworkshop\n\n 	Wat: Ayurvedische Kookworkshop\n
  	Wanneer:\n 	Castricum: 2024: 30 maart\n 	Tijd:\nCastricum: 10.00 – 14.
 00 uur\nRotterdam: 17:30 – 21:30 uur\n 	Waar: Castricum / Rotterdam\n 	E
 rvaring: Alena heeft sinds 2009 een praktijk voor Ayurvedische voeding- e
 n leefstijl advies en geeft regelmatig privé of in groepsverband Ayurvedi
 sche kookworkshops. Anjanidebie is een CAT-gecertificeerde Ayurvedisch Pra
 ctitioner\, zij heeft een life time ervaring met Ayurveda vanwege haar Ind
 iase roots. Opgegroeid met Ayurveda via haar ouders. Zij volgde diverse Ay
 urveda\, Yoga en Spirituele opleidingen.\n 	Wat is het niet: het is niet 
 moeilijk of saai\n 	Deelnemers:\nCastricum: minimaal 3 deelnemers\, maxima
 al 7 deelnemers (gemengd)\nRotterdam: minimaal 10 deelnemers\, maximaal 22
  deelnemers (gemengd)\n 	Kosten:\nCastricum: €97\,00\nRotterdam: €129\
 ,00\n 	Aanmelden: Klik hier\n 	Overige: deze Ayurvedische kookworkshop is
  een goede voorbereiding voor de Spirituele reis naar India &amp\; 30 d
 agen gezondheidsreis India die wij ieder jaar organiseren. De kookworksho
 p bieden we ook aan voor privé groepen.\n
ATTACH;FMTTYPE=image/jpeg:https://bezielen.nl/wp-content/uploads/2023/07/k
 ookworkshop.jpg
CATEGORIES:Workshop
LOCATION:Castricum\, Castricum\, Castricum\, Netherlands\, Nederland
X-APPLE-STRUCTURED-LOCATION;VALUE=URI;X-ADDRESS=Castricum\, Castricum\, Net
 herlands\, Nederland;X-APPLE-RADIUS=100;X-TITLE=Castricum:geo:0,0
END:VEVENT
BEGIN:VTIMEZONE
TZID:Europe/Amsterdam
X-LIC-LOCATION:Europe/Amsterdam
BEGIN:STANDARD
DTSTART:20231029T020000
TZOFFSETFROM:+0200
TZOFFSETTO:+0100
TZNAME:CET
END:STANDARD
END:VTIMEZONE
END:VCALENDAR