BEGIN:VCALENDAR
VERSION:2.0
PRODID:-//wp-events-plugin.com//7.2.3.1//EN
TZID:Europe/Amsterdam
X-WR-TIMEZONE:Europe/Amsterdam
BEGIN:VEVENT
UID:295@bezielen.nl
DTSTART;TZID=Europe/Amsterdam:20240518T100000
DTEND;TZID=Europe/Amsterdam:20240518T140000
DTSTAMP:20240429T053904Z
URL:https://bezielen.nl/events/ayurvedische-kookworkshop-31/
SUMMARY:Ayurvedische Kookworkshop
DESCRIPTION:Ayurvedische Kookworkshop\n\n 	Wat: Ayurvedische Kookworkshop\n
  	Wanneer:\n 	Castricum: 2024: 18 mei Apotheek in je keuken  (2-day works
 hop Ayurvedic cooking Basics part 1 + 2)\nRotterdam: data volgt\n 	Tijd:\n
 Castricum: 10:00 – 14:00 uur\nRotterdam: 17:30 – 21:30 uur\n 	Waar: Ca
 stricum / Rotterdam\n 	Ervaring: Alena heeft sinds 2009 een praktijk voor
  Ayurvedische voeding- en leefstijl advies en geeft regelmatig privé of i
 n groepsverband Ayurvedische kookworkshops. Anjanidebie is een CAT-gecerti
 ficeerde Ayurvedisch Practitioner\, zij heeft een life time ervaring met A
 yurveda vanwege haar Indiase roots. Opgegroeid met Ayurveda via haar ouder
 s. Zij volgde diverse Ayurveda\, Yoga en Spirituele opleidingen.\n 	Wat is
  het niet: het is niet moeilijk of saai\n 	Deelnemers:\nCastricum: minima
 al 3 deelnemers\, maximaal 7 deelnemers (gemengd)\nRotterdam: minimaal 10 
 deelnemers\, maximaal 22 deelnemers (gemengd)\n 	Kosten:\nCastricum: €17
 0\,00\nRotterdam: €129\,00\n 	Aanmelden: Klik hier\n 	Overige: deze Ayu
 rvedische kookworkshop is een goede voorbereiding voor de Spirituele reis
  naar India &amp\; 30 dagen gezondheidsreis India die wij ieder jaar or
 ganiseren. De kookworkshop bieden we ook aan voor privé groepen.\n
ATTACH;FMTTYPE=image/jpeg:https://bezielen.nl/wp-content/uploads/2023/07/k
 ookworkshop.jpg
CATEGORIES:ayurveda
LOCATION:Castricum\, Castricum\, Castricum\, Netherlands\, Nederland
X-APPLE-STRUCTURED-LOCATION;VALUE=URI;X-ADDRESS=Castricum\, Castricum\, Net
 herlands\, Nederland;X-APPLE-RADIUS=100;X-TITLE=Castricum:geo:0,0
END:VEVENT
BEGIN:VTIMEZONE
TZID:Europe/Amsterdam
X-LIC-LOCATION:Europe/Amsterdam
BEGIN:DAYLIGHT
DTSTART:20240331T030000
TZOFFSETFROM:+0100
TZOFFSETTO:+0200
TZNAME:CEST
END:DAYLIGHT
END:VTIMEZONE
END:VCALENDAR