BEGIN:VCALENDAR
VERSION:2.0
PRODID:-//wp-events-plugin.com//7.2.3.1//EN
TZID:Europe/Amsterdam
X-WR-TIMEZONE:Europe/Amsterdam
BEGIN:VEVENT
UID:286@bezielen.nl
DTSTART;TZID=Europe/Amsterdam:20240412T100000
DTEND;TZID=Europe/Amsterdam:20240412T140000
DTSTAMP:20240318T055203Z
URL:https://bezielen.nl/events/ayurvedische-kookworkshop-28/
SUMMARY:Ayurvedische Kookworkshop
DESCRIPTION:Ayurvedische Kookworkshop\n\n 	Wat: Ayurvedische Kookworkshop\n
  	Wanneer:\n 	Castricum: 2024: 12 april &amp\; 27 april Apotheek in je keu
 ken  (2-day workshop Ayurvedic cooking Basics part 1 + 2)\nRotterdam: dat
 a volgt\n 	Tijd:\nCastricum: 10.00 – 14.00 uur\nRotterdam: 17:30 – 21:
 30 uur\n 	Waar: Castricum / Rotterdam\n 	Ervaring: Alena heeft sinds 2009
  een praktijk voor Ayurvedische voeding- en leefstijl advies en geeft rege
 lmatig privé of in groepsverband Ayurvedische kookworkshops. Anjanidebie 
 is een CAT-gecertificeerde Ayurvedisch Practitioner\, zij heeft een life t
 ime ervaring met Ayurveda vanwege haar Indiase roots. Opgegroeid met Ayurv
 eda via haar ouders. Zij volgde diverse Ayurveda\, Yoga en Spirituele ople
 idingen.\n 	Wat is het niet: het is niet moeilijk of saai\n 	Deelnemers:\
 nCastricum: minimaal 3 deelnemers\, maximaal 7 deelnemers (gemengd)\nRotte
 rdam: minimaal 10 deelnemers\, maximaal 22 deelnemers (gemengd)\n 	Kosten:
 \nCastricum: €97\,00\nRotterdam: €129\,00\n 	Aanmelden: Klik hier\n 	O
 verige: deze Ayurvedische kookworkshop is een goede voorbereiding voor de
  Spirituele reis naar India &amp\; 30 dagen gezondheidsreis India die 
 wij ieder jaar organiseren. De kookworkshop bieden we ook aan voor privé 
 groepen.\n
ATTACH;FMTTYPE=image/jpeg:https://bezielen.nl/wp-content/uploads/2023/07/k
 ookworkshop.jpg
CATEGORIES:ayurveda
LOCATION:Castricum\, Castricum\, Castricum\, Netherlands\, Nederland
X-APPLE-STRUCTURED-LOCATION;VALUE=URI;X-ADDRESS=Castricum\, Castricum\, Net
 herlands\, Nederland;X-APPLE-RADIUS=100;X-TITLE=Castricum:geo:0,0
END:VEVENT
BEGIN:VTIMEZONE
TZID:Europe/Amsterdam
X-LIC-LOCATION:Europe/Amsterdam
BEGIN:DAYLIGHT
DTSTART:20240331T030000
TZOFFSETFROM:+0100
TZOFFSETTO:+0200
TZNAME:CEST
END:DAYLIGHT
END:VTIMEZONE
END:VCALENDAR