BEGIN:VCALENDAR
VERSION:2.0
PRODID:-//wp-events-plugin.com//7.2.3.1//EN
TZID:Europe/Amsterdam
X-WR-TIMEZONE:Europe/Amsterdam
BEGIN:VEVENT
UID:251@bezielen.nl
DTSTART;TZID=Europe/Amsterdam:20240217T100000
DTEND;TZID=Europe/Amsterdam:20240217T140000
DTSTAMP:20240105T055606Z
URL:https://bezielen.nl/events/ayurvedische-kookworkshop-20/
SUMMARY:Ayurvedische Kookworkshop
DESCRIPTION:Ontdek de kracht en eenvoud van Ayurveda voor een leven in bala
 ns!\nOp deze dag ontdek je wat jouw constitutie is (prakruti) en leer je w
 elk voedsel goed voor je is en wat niet. Je leert over de invloed van elem
 enten op je lichaam en geest\, over wat dosha’s betekenen\, wat je uit b
 alans brengt en wat je kunt doen om weer in balans te komen.\nWe gaan heer
 lijke en gezonde gerechten maken van seizoensproducten die voedend en rein
 igend zijn voor lichaam en geest.\nZoals altijd sluiten we de kookworkshop
  af met een feestelijke maaltijd.\n\n 	Wat: Ayurvedische Kookworkshop\n 	W
 anneer:\nCastricum: 17 februari 2024\n 	Tijd:\nCastricum: 10.00 – 14.00 
 uur\n 	Waar: Castricum\n 	Ervaring: Alena heeft sinds 2009 een praktijk v
 oor Ayurvedische voeding- en leefstijl advies en geeft regelmatig privé o
 f in groepsverband Ayurvedische kookworkshops. Anjanidebie is een CAT-gece
 rtificeerde Ayurvedisch Practitioner\, zij heeft een life time ervaring me
 t Ayurveda vanwege haar Indiase roots. Opgegroeid met Ayurveda via haar ou
 ders. Zij volgde diverse Ayurveda\, Yoga en Spirituele opleidingen.\n 	Wat
  is het niet: het is niet moeilijk of saai\n 	Deelnemers:\nCastricum: min
 imaal 3 deelnemers\, maximaal 7 deelnemers (gemengd)\n 	Kosten:\nCastricum
 : €97\,00\n 	Aanmelden: onderaan de pagina\n 	Overige: deze Ayurvedisc
 he kookworkshop is een goede voorbereiding voor de Spirituele reis naar I
 ndia &amp\; 30 dagen gezondheidsreis India die wij ieder jaar organiser
 en. De kookworkshop bieden we ook aan voor privé groepen.\n\nAANMELDEN
ATTACH;FMTTYPE=image/jpeg:https://bezielen.nl/wp-content/uploads/2022/02/z
 omer-KW-scaled-1-2-scaled.jpg
CATEGORIES:ayurveda
LOCATION:Castricum\, Castricum\, Castricum\, ZH\, Nederland
X-APPLE-STRUCTURED-LOCATION;VALUE=URI;X-ADDRESS=Castricum\, Castricum\, ZH\
 , Nederland;X-APPLE-RADIUS=100;X-TITLE=Castricum:geo:0,0
END:VEVENT
BEGIN:VTIMEZONE
TZID:Europe/Amsterdam
X-LIC-LOCATION:Europe/Amsterdam
BEGIN:STANDARD
DTSTART:20231029T020000
TZOFFSETFROM:+0200
TZOFFSETTO:+0100
TZNAME:CET
END:STANDARD
END:VTIMEZONE
END:VCALENDAR