BEGIN:VCALENDAR
VERSION:2.0
PRODID:-//wp-events-plugin.com//7.2.3.1//EN
TZID:Europe/Amsterdam
X-WR-TIMEZONE:Europe/Amsterdam
BEGIN:VEVENT
UID:244@bezielen.nl
DTSTART;TZID=Europe/Amsterdam:20240114T173000
DTEND;TZID=Europe/Amsterdam:20240114T213000
DTSTAMP:20240102T074815Z
URL:https://bezielen.nl/events/ayurvedische-kookworkshop-17/
SUMMARY:Ayurvedische kookworkshop
DESCRIPTION:Ontdek de kracht en eenvoud van Ayurveda voor een leven in bala
 ns!\nOp deze dag ontdek je wat jouw constitutie is (prakruti) en leer je w
 elk voedsel goed voor je is en wat niet. Je leert over de invloed van elem
 enten op je lichaam en geest\, over wat dosha’s betekenen\, wat je uit b
 alans brengt en wat je kunt doen om weer in balans te komen.\nWe gaan heer
 lijke en gezonde gerechten maken van seizoensproducten die voedend en rein
 igend zijn voor lichaam en geest.\nZoals altijd sluiten we de kookworkshop
  af met een feestelijke maaltijd.\n\n 	Wat: Ayurvedische Kookworkshop\n 	W
 anneer:\nRotterdam: 14 januari 2024\n 	Tijd:\nRotterdam: 17:30 – 21:30 u
 ur\n 	Waar: Rotterdam\n 	Ervaring: Alena heeft sinds 2009 een praktijk vo
 or Ayurvedische voeding- en leefstijl advies en geeft regelmatig privé of
  in groepsverband Ayurvedische kookworkshops. Anjanidebie is een CAT-gecer
 tificeerde Ayurvedisch Practitioner\, zij heeft een life time ervaring met
  Ayurveda vanwege haar Indiase roots. Opgegroeid met Ayurveda via haar oud
 ers. Zij volgde diverse Ayurveda\, Yoga en Spirituele opleidingen.\n 	Wat 
 is het niet: het is niet moeilijk of saai\n 	Deelnemers:\nRotterdam: mini
 maal 10 deelnemers\, maximaal 22 deelnemers (gemengd)\n 	Kosten:\nRotterda
 m:  €129\,00\n 	Aanmelden: klik hier\n 	Overige: deze Ayurvedische koo
 kworkshop is een goede voorbereiding voor de Spirituele reis naar India 
 &amp\; 30 dagen gezondheidsreis India die wij ieder jaar organiseren. De
  kookworkshop bieden we ook aan voor privé groepen.\n
ATTACH;FMTTYPE=image/jpeg:https://bezielen.nl/wp-content/uploads/2023/07/k
 ookworkshop.jpg
CATEGORIES:ayurveda
LOCATION:Rotterdam\, Rotterdam\, Rotterdam\, Rotterdam\, Rotterdam\, Nederl
 and
X-APPLE-STRUCTURED-LOCATION;VALUE=URI;X-ADDRESS=Rotterdam\, Rotterdam\, Rot
 terdam\, Rotterdam\, Nederland;X-APPLE-RADIUS=100;X-TITLE=Rotterdam:geo:0,
 0
END:VEVENT
BEGIN:VTIMEZONE
TZID:Europe/Amsterdam
X-LIC-LOCATION:Europe/Amsterdam
BEGIN:STANDARD
DTSTART:20231029T020000
TZOFFSETFROM:+0200
TZOFFSETTO:+0100
TZNAME:CET
END:STANDARD
END:VTIMEZONE
END:VCALENDAR