BEGIN:VCALENDAR
VERSION:2.0
PRODID:-//wp-events-plugin.com//7.2.3.1//EN
TZID:Europe/Amsterdam
X-WR-TIMEZONE:Europe/Amsterdam
BEGIN:VEVENT
UID:607@bezielen.nl
DTSTART;TZID=Europe/Amsterdam;VALUE=DATE:20251003
DTEND;TZID=Europe/Amsterdam;VALUE=DATE:20251006
DTSTAMP:20250830T065514Z
URL:https://bezielen.nl/events/ayurveda-in-de-ashram/
SUMMARY:Ayurveda in de Ashram
DESCRIPTION:Wat: Ayurveda in de Ashram: Koken\, mediteren en thuiskomen in
  jezelf\nWanneer: van vrijdag tot en met zondag\nData: 3 – 5 oktober\nW
 aar: Ashram in Loenen\nErvaring: Wij organiseren dit weekend 6 keer per 
 jaar sinds 2007\nWat is het weekend niet: hele dag op kussen mediteren in
  stilte\nDeelnemers: ca. zestien deelnemers (gemengd)\nKosten: 425 euro p
 .p.\nAanmelden of meer info via deze link: Ayurveda in de Ashram\nOverige
 : het ayurveda- &amp\; meditatieweekend is een goede voorbereiding op de 
 reizen naar de Himalaya in India die Bezielen regelmatig organiseert.
ATTACH;FMTTYPE=image/jpeg:https://bezielen.nl/wp-content/uploads/2022/05/3
 .png
CATEGORIES:ayurveda
LOCATION:Ashram in Loenen\, Loenen\, Loenen\, Nederland\, Nederland
X-APPLE-STRUCTURED-LOCATION;VALUE=URI;X-ADDRESS=Loenen\, Loenen\, Nederland
 \, Nederland;X-APPLE-RADIUS=100;X-TITLE=Ashram in Loenen:geo:0,0
END:VEVENT
BEGIN:VTIMEZONE
TZID:Europe/Amsterdam
X-LIC-LOCATION:Europe/Amsterdam
BEGIN:DAYLIGHT
DTSTART:20250330T030000
TZOFFSETFROM:+0100
TZOFFSETTO:+0200
TZNAME:CEST
END:DAYLIGHT
END:VTIMEZONE
END:VCALENDAR