BEGIN:VCALENDAR
VERSION:2.0
PRODID:-//wp-events-plugin.com//7.2.3.1//EN
TZID:Europe/Amsterdam
X-WR-TIMEZONE:Europe/Amsterdam
BEGIN:VEVENT
UID:466@bezielen.nl
DTSTART;TZID=Europe/Amsterdam;VALUE=DATE:20250215
DTEND;TZID=Europe/Amsterdam;VALUE=DATE:20250216
DTSTAMP:20250111T054640Z
URL:https://bezielen.nl/events/ayanana-innerlijke-reis/
SUMMARY:Ayanana innerlijke reis
DESCRIPTION:\n 	Wat: Psilohuasca of truffel-reis met inleiding en afsluiten
 de sharing na een gezamenlijke maaltijd\n 	Wanneer: 15 februari 2025 (Een 
 keer per maand)\n 	Waar: Utrecht\n 	Ervaring: De ceremonieleider heeft rui
 me ervaring in de geestelijke gezondheidszorg. Vijf jaar ervaring in het l
 eiden van groepen\, stellen en individuele personen op psychedelische reiz
 en. Zij heeft een internationale veiligheidsopleiding gedaan op het gebied
  van psychedelica. Ook de begeleiders hebben jarenlange ervaring in het be
 geleiden en vaak een achtergrond in de zorg.\n 	Wat is de dag niet?: Een m
 iddag ‘Trippen”\, wij nemen plantenreizen serieus en verlangen dat ook
  van onze gasten. Er hoort een voorbereidende periode bij waar wij je over
  zullen informeren. Ook zal er een periode van integratie zijn.\n 	Deelnem
 ers: Tijdens de groepsreizen zullen wij met ca. acht deelnemers reizen. (
  gemengd )\n 	Kosten: 225 euro p.p.\nIndividueel 550 euro p.p.\nKoppel 750
  euro p.p.\n 	Aanmelden of meer info via deze link: Ayanana innerlijke rei
 s\n 	Overige:Het is mogelijk als koppel\, individuele reiziger of als eige
 n groep een Hawaiian baby woodrose reis te boeken met gekozen datum en loc
 atie.\n
ATTACH;FMTTYPE=image/jpeg:https://bezielen.nl/wp-content/uploads/2024/12/J
 acqueline-03.webp
CATEGORIES:plant reizen
LOCATION:Utrecht\, Utrecht\, Utrecht\, Nederland\, Nederland
X-APPLE-STRUCTURED-LOCATION;VALUE=URI;X-ADDRESS=Utrecht\, Utrecht\, Nederla
 nd\, Nederland;X-APPLE-RADIUS=100;X-TITLE=Utrecht:geo:0,0
END:VEVENT
BEGIN:VTIMEZONE
TZID:Europe/Amsterdam
X-LIC-LOCATION:Europe/Amsterdam
BEGIN:STANDARD
DTSTART:20241027T020000
TZOFFSETFROM:+0200
TZOFFSETTO:+0100
TZNAME:CET
END:STANDARD
END:VTIMEZONE
END:VCALENDAR