BEGIN:VCALENDAR
VERSION:2.0
PRODID:-//wp-events-plugin.com//7.2.3.1//EN
TZID:Europe/Amsterdam
X-WR-TIMEZONE:Europe/Amsterdam
BEGIN:VEVENT
UID:439@bezielen.nl
DTSTART;TZID=Europe/Amsterdam;VALUE=DATE:20251017
DTEND;TZID=Europe/Amsterdam;VALUE=DATE:20251116
DTSTAMP:20250830T063549Z
URL:https://bezielen.nl/events/30-daagse-gezondheidsreis-india/
SUMMARY:30 daagse gezondheidsreis India
DESCRIPTION:30 daagse gezondheidsreis India\nDertig daagse ayurveda\, medit
 atie en yoga in India: ben jij klaar voor de ultieme gezondheidsreis? We n
 odigen je uit met Bezielen af te reizen naar Bhole Baba\, een specialistis
 ch gezondheidscentrum in de schitterende omgeving van het Himalayagebergte
 . Daar ontvang je ayurvedische behandelingen in een kuur die leidt tot rus
 t\, revitalisering en een herstelde balans tussen lichaam en geest.\n\n 	\
 n\n 	Wat: 30 daagse gezondheidsreis India\, bestaande uit yoga\, meditatie
 \, ayurvedische behandelingen\n 	Wanneer:17 oktober - 15 november 2025 / 1
  - 30 maart 2026\n 	Waar: Ashram Anandapuri bij Bhole Baba Ayurvedic Hosp
 ital and Research Centre\, Chilianaula (Kumaon\, Uttaranchal)\n 	Deelnemer
 s: ca. 15\n 	Kosten: 2620 euro\n 	Aanmelden of meer info via deze link: g
 ezondheidsreis India\n\n\n\n&nbsp\;
ATTACH;FMTTYPE=image/jpeg:https://bezielen.nl/wp-content/uploads/2022/05/1
 .png
CATEGORIES:Gezondheidsreis,Gezondheidsreis
 India,Meditatie,Mindfulness,yoga
LOCATION:Bhole Baba Ayurvedic Hospital & Research Center\, Bhole Baba Ayurv
 edic Hospital &amp\; Research Center\, Uttarakhand\, India
X-APPLE-STRUCTURED-LOCATION;VALUE=URI;X-ADDRESS=Bhole Baba Ayurvedic Hospit
 al & Research Center\, Uttarakhand\, India;X-APPLE-RADIUS=100;X-TITLE=Bhol
 e Baba Ayurvedic Hospital & Research Center:geo:0,0
END:VEVENT
BEGIN:VTIMEZONE
TZID:Europe/Amsterdam
X-LIC-LOCATION:Europe/Amsterdam
BEGIN:DAYLIGHT
DTSTART:20250330T030000
TZOFFSETFROM:+0100
TZOFFSETTO:+0200
TZNAME:CEST
END:DAYLIGHT
BEGIN:STANDARD
DTSTART:20251026T020000
TZOFFSETFROM:+0200
TZOFFSETTO:+0100
TZNAME:CET
END:STANDARD
END:VTIMEZONE
END:VCALENDAR