BEGIN:VCALENDAR
VERSION:2.0
PRODID:-//wp-events-plugin.com//7.2.3.1//EN
TZID:Europe/Amsterdam
X-WR-TIMEZONE:Europe/Amsterdam
BEGIN:VEVENT
UID:134@bezielen.nl
DTSTART;TZID=Europe/Amsterdam;VALUE=DATE:20240723
DTEND;TZID=Europe/Amsterdam;VALUE=DATE:20240823
DTSTAMP:20240517T053804Z
URL:https://bezielen.nl/events/30-daagse-gezondheidsreis-india-juli/
SUMMARY:30 daagse gezondheidsreis India juli-aug
DESCRIPTION:30 daagse gezondheidsreis India\nDertig daagse ayurveda\, medit
 atie en yoga in India: ben jij klaar voor de ultieme gezondheidsreis? We n
 odigen je uit met Bezielen af te reizen naar Bhole Baba\, een specialistis
 ch gezondheidscentrum in de schitterende omgeving van het Himalayagebergte
 . Daar ontvang je ayurvedische behandelingen in een kuur die leidt tot rus
 t\, revitalisering en een herstelde balans tussen lichaam en geest.\n\n 	W
 at: 30 daagse gezondheidsreis India\, bestaande uit yoga\, meditatie\, ayu
 rvedische behandelingen\n 	Wanneer: 23 juli – 22 augustus\n 	Waar: Ashr
 am Anandapuri bij Bhole Baba Ayurvedic Hospital and Research Centre\, Chil
 ianaula (Kumaon\, Uttaranchal)\n 	Deelnemers: ca. 15\n 	Kosten: €2.495\,
 -\n 	Aanmelden: klik hier \n
ATTACH;FMTTYPE=image/jpeg:https://bezielen.nl/wp-content/uploads/2022/05/1
 .png
CATEGORIES:Gezondheidsreis,Gezondheidsreis
 India,Meditatie,Mindfulness,yoga
LOCATION:Bhole Baba Ayurvedic Hospital & Research Center\, Bhole Baba Ayurv
 edic Hospital &amp\; Research Center\, Uttarakhand\, India
X-APPLE-STRUCTURED-LOCATION;VALUE=URI;X-ADDRESS=Bhole Baba Ayurvedic Hospit
 al & Research Center\, Uttarakhand\, India;X-APPLE-RADIUS=100;X-TITLE=Bhol
 e Baba Ayurvedic Hospital & Research Center:geo:0,0
END:VEVENT
BEGIN:VTIMEZONE
TZID:Europe/Amsterdam
X-LIC-LOCATION:Europe/Amsterdam
BEGIN:DAYLIGHT
DTSTART:20240331T030000
TZOFFSETFROM:+0100
TZOFFSETTO:+0200
TZNAME:CEST
END:DAYLIGHT
END:VTIMEZONE
END:VCALENDAR