BEGIN:VCALENDAR
VERSION:2.0
PRODID:-//wp-events-plugin.com//7.2.3.1//EN
TZID:Europe/Amsterdam
X-WR-TIMEZONE:Europe/Amsterdam
BEGIN:VEVENT
UID:146@bezielen.nl
DTSTART;TZID=Europe/Amsterdam:20231210T000000
DTEND;TZID=Europe/Amsterdam:20231228T000000
DTSTAMP:20231026T100901Z
URL:https://bezielen.nl/events/19-dagen-gezondheidsreis-kerala/
SUMMARY:19 dagen gezondheidsreis Kerala
DESCRIPTION:Negentien dagen ayurveda\, meditatie en yoga in India: ben jij 
 klaar voor de ultieme gezondheidsreis? We nodigen je uit met Bezielen af t
 e reizen naar Kerala\, een specialistisch gezondheidscentrum direct aan he
 t strand. Daar ontvang je ayurvedische behandelingen in een kuur die leidt
  tot rust\, revitalisering en een herstelde balans tussen lichaam en geest
 .\n\n 	Wat: 19 dagen gezondheidsreis India\, bestaande uit yoga\, meditat
 ie\, ayurvedische behandelingen.\n 	Wanneer: 10 – 28 december 2023\n\n 
 	Waar: Kerala\n 	Deelnemers: ca. 10 (ook op individuele basis)\n 	Kosten
 : € 2.395\,-\n 	Aanmelden: Hier\n
ATTACH;FMTTYPE=image/jpeg:https://bezielen.nl/wp-content/uploads/2023/10/a
 bhishek-prasad-N3VzleBhOvk-unsplash-002-1030x688-1.jpg
CATEGORIES:Gezondheidsreis India,india
LOCATION:Kerala\, Kerala\, Kerala\, India
X-APPLE-STRUCTURED-LOCATION;VALUE=URI;X-ADDRESS=Kerala\, Kerala\, India;X-A
 PPLE-RADIUS=100;X-TITLE=Kerala:geo:0,0
END:VEVENT
BEGIN:VTIMEZONE
TZID:Europe/Amsterdam
X-LIC-LOCATION:Europe/Amsterdam
BEGIN:STANDARD
DTSTART:20231029T020000
TZOFFSETFROM:+0200
TZOFFSETTO:+0100
TZNAME:CET
END:STANDARD
END:VTIMEZONE
END:VCALENDAR